BEGIN:VCALENDAR
VERSION:2.0
PRODID:-//Sports Tourist - ECPv6.15.18//NONSGML v1.0//EN
CALSCALE:GREGORIAN
METHOD:PUBLISH
X-WR-CALNAME:Sports Tourist
X-ORIGINAL-URL:https://mysportstourist.com
X-WR-CALDESC:Events for Sports Tourist
REFRESH-INTERVAL;VALUE=DURATION:PT1H
X-Robots-Tag:noindex
X-PUBLISHED-TTL:PT1H
BEGIN:VTIMEZONE
TZID:America/Chicago
BEGIN:DAYLIGHT
TZOFFSETFROM:-0600
TZOFFSETTO:-0500
TZNAME:CDT
DTSTART:20250309T080000
END:DAYLIGHT
BEGIN:STANDARD
TZOFFSETFROM:-0500
TZOFFSETTO:-0600
TZNAME:CST
DTSTART:20251102T070000
END:STANDARD
BEGIN:DAYLIGHT
TZOFFSETFROM:-0600
TZOFFSETTO:-0500
TZNAME:CDT
DTSTART:20260308T080000
END:DAYLIGHT
BEGIN:STANDARD
TZOFFSETFROM:-0500
TZOFFSETTO:-0600
TZNAME:CST
DTSTART:20261101T070000
END:STANDARD
BEGIN:DAYLIGHT
TZOFFSETFROM:-0600
TZOFFSETTO:-0500
TZNAME:CDT
DTSTART:20270314T080000
END:DAYLIGHT
BEGIN:STANDARD
TZOFFSETFROM:-0500
TZOFFSETTO:-0600
TZNAME:CST
DTSTART:20271107T070000
END:STANDARD
END:VTIMEZONE
BEGIN:VEVENT
DTSTART;TZID=America/Chicago:20260924T000000
DTEND;TZID=America/Chicago:20260927T235959
DTSTAMP:20260419T223119
CREATED:20251001T211417Z
LAST-MODIFIED:20251001T211421Z
UID:21353-1790208000-1790553599@mysportstourist.com
SUMMARY:2026 Presidents Cup
DESCRIPTION:The 2026 Presidents Cup is one of professional golf’s most prestigious and highly anticipated global events\, a biennial team competition pitting 12 top male professional golfers from the United States against 12 from the International Team (representing the rest of the world outside of Europe). \n\n\n\nThe 2026 edition marks the 16th playing of this thrilling tournament and will be contested at a venue steeped in championship history: Medinah Country Club’s famed Course No. 3\, located just outside Chicago. It promises four days of intense\, match-play competition. \n\n\n\nThis guide provides essential information for fans planning to attend the 2026 Presidents Cup\, including dates\, venue details\, ticketing\, travel\, and accommodation. \n\n\n\n\n\n\n\n\n\n\nWhen is the 2026 Presidents Cup?\n\n\n\nThe 2026 Presidents Cup will take place over six days\, featuring three days of competition preceded by practice rounds and opening events. \n\n\n\n\nCompetition Days: Thursday\, September 24\, 2026\, to Sunday\, September 27\, 2026.\n\n\n\nBuild-up Days: Including practice rounds and opening events\, the full week runs from Tuesday\, September 22\, 2026\, to Wednesday\, September 23\, 2026.\n\n\n\nFull Event Week: Tuesday\, September 22\, 2026 – Sunday\, September 27\, 2026.\n\n\n\n\n\n\n\n\nWhere is the 2026 Presidents Cup?\n\n\n\nThe Presidents Cup makes its debut in the Chicagoland area. \n\n\n\n\nVenue: Medinah Country Club\, Course No. 3\n\n\n\nLocation: Medinah\, Illinois\, USA (Approximately 30 minutes west of downtown Chicago)\n\n\n\n\nAbout Medinah Country Club\, Course No. 3\n\n\n\nMedinah Country Club is one of the most storied private country clubs in the United States\, famous for its grand clubhouse and three world-class golf courses. Course No. 3\, its prized jewel\, has hosted an unparalleled list of major championships\, including: \n\n\n\n\nThe 2012 Ryder Cup\n\n\n\nTwo PGA Championships\n\n\n\nThree U.S. Opens\n\n\n\n\nThe course was originally designed by Tom Bendelow and recently underwent a strategic redesign to enhance its challenge and spectator experience. It features larger greens\, dramatically scaled bunkers\, and wider fairways\, offering a spectacular setting for match-play golf. \n\n\n\n\n\n\n\nHow do I get tickets to the 2026 Presidents Cup?\n\n\n\nTICKETS ARE NOW ON SALE! \n\n\n\nGeneral admission and premium hospitality options are available for the 2026 Presidents Cup. Fans are strongly encouraged to purchase early as demand is high for this inaugural event in the Chicago area. \n\n\n\n\nOfficial Ticket Seller: The primary source for grounds and hospitality tickets is Ticketmaster\, the official ticket exchange partner of the PGA TOUR.\n\n\n\nDirect Ticket Purchase: Buy your official tickets here: Buy Tickets Now via Ticketmaster\n\n\n\nTicket Types: Options include:\n\nGrounds Tickets: Provides general access to the tournament grounds\, viewing areas\, and public venues.\n\n\n\nCaptains’ Club: An upgraded hospitality experience.\n\n\n\nInternational Club: A premium\, all-inclusive hospitality venue.\n\n\n\n\n\nChildren’s Admission: Two children aged 15 and under receive free grounds admission when accompanied by a ticketed adult.\n\n\n\n\nImportant Note: Always purchase tickets only through official channels or authorized partners to ensure authenticity and avoid scams. \n\n\n\n        \n\n\n\n\n\n\n\n\nHow do I travel to Medinah Country Club?\n\n\n\nMedinah Country Club is located conveniently in the western suburbs of Chicago\, with excellent access to major international airports and regional transport. \n\n\n\n\nBy Air:\n\nChicago O’Hare International Airport (ORD): This is the closest major airport\, located approximately 15–20 miles (25–32 km) away\, translating to a drive of about 25–40 minutes without heavy traffic. ORD is a primary international hub.\n\n\n\nChicago Midway International Airport (MDW): Located about 25 miles (40 km) away\, typically a 45–60 minute drive\, offering strong domestic flight options.\n\n\n\n\n\nBy Train: The Chicago-area Metra commuter rail system provides service from Chicago Union Station to the Medinah station on the Milwaukee District West Line (MD-W). The station is very close to the Country Club grounds. This is often the most reliable option to avoid traffic congestion.\n\n\n\nBy Car: The venue is accessible via major interstates and tollways. Due to high volume\, event parking is typically located off-site with mandatory shuttle service to the grounds. Parking passes must be purchased in advance.\n\n\n\nBy Rideshare: Dedicated rideshare zones will be established near the venue\, but expect high surcharges and wait times\, especially during peak hours.\n\n\n\n\n\n\n\n\n\n\n\n\nWhere to Stay During the 2026 Presidents Cup?\n\n\n\nStaying in the Chicago area offers fantastic options\, ranging from luxury downtown hotels to convenient suburban accommodations. \n\n\n\n\nDowntown Chicago: Staying in the Loop\, River North\, or Magnificent Mile provides access to world-class dining\, tourism\, and nightlife. While requiring a slightly longer commute (via Metra train or car/shuttle) to Medinah\, it offers the ultimate big-city experience.\n\n\n\nSuburbs (Near Airport/Venue): Staying in nearby suburbs like Schaumburg\, Oak Brook\, or Itasca offers a shorter commute to the course\, often with easier access to event shuttles and more readily available rooms compared to downtown.\n\n\n\nDuPage County: The county where Medinah is located offers numerous hotels catering to business and regional travelers\, providing a convenient base for the week.\n\n\n\n\nBooking Tips: \n\n\n\n\nBook Your Hotel Early: Chicago is a major metropolitan area\, but accommodation demand will surge for this event.\n\n\n\nPrioritize Transit: If you plan on using the Metra train\, book accommodation near Union Station downtown or in a suburb with direct Metra access.\n\n\n\nCheck Cancellation Policies: Ensure your reservations offer flexibility.\n\n\n\nUse Reputable Booking Sites: Utilise platforms like Tripadvisor to find and compare options.\n\n\n\n\n\n\n\n\n\n\n\n\n\nHelpful Links for Planning Your 2026 Presidents Cup Experience\n\n\n\n\nOfficial Presidents Cup 2026 Website\n\n\n\nOfficial Ticket Purchase via Ticketmaster\n\n\n\nPGA TOUR Official Website\n\n\n\nMedinah Country Club Website\n\n\n\nChicago O’Hare International Airport (ORD)\n\n\n\nChicago Metra Rail System (Check MD-W line)\n\n\n\nChoose Chicago (Official Tourism Site)
URL:https://mysportstourist.com/sportsevent/2026-presidents-cup/
LOCATION:Medinah Country Club\, Medinah\, Illinois\, United States
CATEGORIES:Golf
ATTACH;FMTTYPE=image/jpeg:https://mysportstourist.com/wp-content/uploads/2025/09/Medinah-Country-Club-scaled.jpg
END:VEVENT
END:VCALENDAR