BEGIN:VCALENDAR
VERSION:2.0
PRODID:-//Sports Tourist - ECPv6.15.18//NONSGML v1.0//EN
CALSCALE:GREGORIAN
METHOD:PUBLISH
X-ORIGINAL-URL:https://mysportstourist.com
X-WR-CALDESC:Events for Sports Tourist
REFRESH-INTERVAL;VALUE=DURATION:PT1H
X-Robots-Tag:noindex
X-PUBLISHED-TTL:PT1H
BEGIN:VTIMEZONE
TZID:Australia/Sydney
BEGIN:STANDARD
TZOFFSETFROM:+1100
TZOFFSETTO:+1000
TZNAME:AEST
DTSTART:20250405T160000
END:STANDARD
BEGIN:DAYLIGHT
TZOFFSETFROM:+1000
TZOFFSETTO:+1100
TZNAME:AEDT
DTSTART:20251004T160000
END:DAYLIGHT
BEGIN:STANDARD
TZOFFSETFROM:+1100
TZOFFSETTO:+1000
TZNAME:AEST
DTSTART:20260404T160000
END:STANDARD
BEGIN:DAYLIGHT
TZOFFSETFROM:+1000
TZOFFSETTO:+1100
TZNAME:AEDT
DTSTART:20261003T160000
END:DAYLIGHT
BEGIN:STANDARD
TZOFFSETFROM:+1100
TZOFFSETTO:+1000
TZNAME:AEST
DTSTART:20270403T160000
END:STANDARD
BEGIN:DAYLIGHT
TZOFFSETFROM:+1000
TZOFFSETTO:+1100
TZNAME:AEDT
DTSTART:20271002T160000
END:DAYLIGHT
END:VTIMEZONE
BEGIN:VTIMEZONE
TZID:Pacific/Auckland
BEGIN:STANDARD
TZOFFSETFROM:+1300
TZOFFSETTO:+1200
TZNAME:NZST
DTSTART:20250405T140000
END:STANDARD
BEGIN:DAYLIGHT
TZOFFSETFROM:+1200
TZOFFSETTO:+1300
TZNAME:NZDT
DTSTART:20250927T140000
END:DAYLIGHT
BEGIN:STANDARD
TZOFFSETFROM:+1300
TZOFFSETTO:+1200
TZNAME:NZST
DTSTART:20260404T140000
END:STANDARD
BEGIN:DAYLIGHT
TZOFFSETFROM:+1200
TZOFFSETTO:+1300
TZNAME:NZDT
DTSTART:20260926T140000
END:DAYLIGHT
BEGIN:STANDARD
TZOFFSETFROM:+1300
TZOFFSETTO:+1200
TZNAME:NZST
DTSTART:20270403T140000
END:STANDARD
BEGIN:DAYLIGHT
TZOFFSETFROM:+1200
TZOFFSETTO:+1300
TZNAME:NZDT
DTSTART:20270925T140000
END:DAYLIGHT
END:VTIMEZONE
BEGIN:VEVENT
DTSTART;TZID=Australia/Sydney:20260704T194500
DTEND;TZID=Australia/Sydney:20260704T194500
DTSTAMP:20260419T130412
CREATED:20260202T193946Z
LAST-MODIFIED:20260202T193951Z
UID:22363-1783194300-1783194300@mysportstourist.com
SUMMARY:Australia v Ireland - Nations Championship 2026
DESCRIPTION:A new era of international rugby arrives in Sydney as Australia host Ireland in the inaugural Nations Championship. This clash at the state-of-the-art Sydney Football Stadium (Allianz Stadium) pits the rising Australian side against one of the world’s most disciplined and successful northern hemisphere powerhouses. With world ranking points and tournament prestige on the line\, this is the marquee winter fixture for rugby fans in the Harbor City. \n\n\n\nThis guide provides essential information for fans planning to attend this Test match on July 4\, 2026\, including venue details\, ticketing\, and travel/accommodation tips for Sydney’s Eastern Suburbs. \n\n\n\n\n\n\n\n\n\n\n📅 When is the Australia v Ireland match in the Nations Championship 2026?\n\n\n\nThis Nations Championship fixture is scheduled for: \n\n\n\n\nDate: Saturday\, July 4\, 2026\n\n\n\nKick-off: 19:45 AEST\n\n\n\n\n\n\n\n\n📍 Where is the Australia v Ireland match in the Nations Championship 2026?\n\n\n\nThe match will be held at Sydney’s premier rectangular sporting venue: \n\n\n\n\nVenue: Sydney Football Stadium (Allianz Stadium)\n\n\n\nLocation: Sydney\, New South Wales\, Australia\n\n\n\n\n🏟️ About the Sydney Football Stadium\n\n\n\nRebuilt and reopened in 2022\, the Sydney Football Stadium is a world-class facility with a capacity of 42\,500. Designed specifically for rectangular sports\, the steep seating bowls ensure every fan is close to the action. The stadium features a striking 360-degree open-roof canopy and is located within the historic Moore Park precinct\, adjacent to the SCG and the Entertainment Quarter. \n\n\n\n\nSydney Football Stadium (Sydney)\n\n\n\n\n🎟️ How do I get tickets to the Australia v Ireland match in the Nations Championship 2026?\n\n\n\nIreland matches in Australia are historically sell-outs due to the massive local Irish diaspora and traveling supporters. Tickets are currently on sale. \n\n\n\n\nOfficial Vendor: Tickets for this fixture are sold via Ticketmaster Australia.\n\n\n\nPriority Access: Australia’s “Wallabies First” members and Team Rugby subscribers typically receive first access to high-demand windows. Register at wallabies.rugby.\n\n\n\nHospitality: The “Gold Bar” and “Private Suites” offer premium experiences with views across the Moore Park precinct.\n\n\n\nOfficial Travel Packages: For international fans\, Wallabies Travel offers packages including match tickets\, Sydney harbor cruises\, and accommodation.\n\n\n\n\n\n\n\n\n\n\n\n\n\n✈️ How do I travel to the Sydney Football Stadium?\n\n\n\nSydney is the primary international hub for Australia\, making it easily accessible for domestic and overseas fans. \n\n\n\n\nBy Air: Sydney Kingsford Smith Airport (SYD) is the main gateway. The Airport Link train runs every 10 minutes and connects both International and Domestic terminals directly to Central Station in just 15 minutes.\n\n\n\nTo the Stadium (Match Day):\n\nSydney Light Rail (Highly Recommended): The L2 Randwick and L3 Kingsford lines run frequently from Central Station to the Moore Park stop. From the stop\, it is a short\, landscaped walk to the stadium.\n\n\n\nWalking from Central: Many fans choose to walk the “Tibby Cotter Walkway” from Central Station (approx. 20–25 minutes)\, passing through Surry Hills’ vibrant pub district.\n\n\n\nSpecial Event Buses: Express shuttle buses often run from Central Station and other major hubs for high-demand Test matches.\n\n\n\nRide-Share: Use the designated drop-off zones in the Entertainment Quarter or near Kippax Lake. Avoid being dropped on Anzac Parade to bypass heavy traffic.\n\n\n\n\n\n\n\n\n\n\n\n\n\n\n🏨 Where to Stay in Sydney?\n\n\n\n\nSurry Hills: The coolest neighborhood in Sydney\, located right between Central Station and the stadium. Perfect for boutique stays like Ace Hotel Sydney or Crystalbrook Albion\, wine bars\, and the “pre-match” pub crawl.\n\n\n\nSydney CBD: Stay near Town Hall or Circular Quay for easy access to the Light Rail and Sydney’s iconic tourist sites. Luxury options include The Fullerton Hotel or Four Seasons Hotel Sydney for those wanting to be near the Opera House.\n\n\n\nPaddington: For a more upscale experience. Stay in heritage terraces or boutique stays like Mrs Banks Boutique Hotel\, within walking distance of the stadium and the fashion boutiques of Oxford Street.\n\n\n\nBondi Junction: A great alternative for those who want to be closer to the beach while staying on the train/bus line to Moore Park. Options like Meriton Suites Bondi Junction offer spacious apartment-style living.\n\n\n\n\n\n\n\n\n\n\n\n\n\n💡 Know Before You Go\n\n\n\n\nThe Sea of Green vs. Gold: Expect a massive Irish presence. The atmosphere at Moore Park for Ireland Tests is famously vocal and friendly.\n\n\n\nWinter in Sydney: July is mid-winter. While days can be sunny\, evening temperatures at the stadium can drop significantly. Bring a warm jacket!\n\n\n\nEntertainment Quarter: Arrive early to enjoy the bars and restaurants at the adjacent Entertainment Quarter (EQ) for a pre-match meal.\n\n\n\nCashless Venue: Allianz Stadium is a fully cashless venue. All food\, beverage\, and merchandise outlets accept major credit/debit cards and mobile payments.\n\n\n\n\n\n\n\n\n🔗 Helpful Links for Your Trip\n\n\n\n\nOfficial Wallabies Website\n\n\n\nNations Championship Official Portal\n\n\n\nNSW Transport Trip Planner\n\n\n\nAllianz Stadium Official Site\n\n\n\n\nJoin the roar in Moore Park for this historic Nations Championship clash! 🇦🇺🇮🇪
URL:https://mysportstourist.com/sportsevent/australia-vs-ireland-2026-nations-championship-sydney/
LOCATION:Sydney Football Stadium\, Sydney\, Australia
CATEGORIES:Australia International Rugby Union,Ireland International Rugby Union,Rugby Union
ATTACH;FMTTYPE=image/jpeg:https://mysportstourist.com/wp-content/uploads/2026/02/Sydney-Football-Stadium-scaled.jpg
END:VEVENT
BEGIN:VEVENT
DTSTART;TZID=Pacific/Auckland:20260718T191000
DTEND;TZID=Pacific/Auckland:20260718T191000
DTSTAMP:20260419T130412
CREATED:20260205T212453Z
LAST-MODIFIED:20260205T212520Z
UID:22423-1784401800-1784401800@mysportstourist.com
SUMMARY:New Zealand v Ireland - Nations Championship 2026
DESCRIPTION:The inaugural Nations Championship reaches a fever pitch as the All Blacks host Ireland at the spiritual home of New Zealand rugby. This clash at the legendary Eden Park pits the world’s most successful rugby nation against the clinical and disciplined Irish side in what has become one of the modern era’s greatest rivalries. With tournament prestige and world ranking supremacy on the line\, this is the marquee winter fixture for rugby fans in the City of Sails. \n \nThis guide provides essential information for fans planning to attend this Test match on July 18\, 2026\, including venue details\, ticketing\, and travel/accommodation tips for Auckland. \n \n\n \n \n\n \n📅 When is the New Zealand v Ireland match in the Nations Championship 2026?\n \nThis Nations Championship fixture is scheduled for: \n \n\nDate: Saturday\, July 18\, 2026\n \nKick-off: 19:10 NZST\n\n \n\n \n📍 Where is the New Zealand v Ireland match in the Nations Championship 2026?\n \nThe match will be held at New Zealand’s national stadium and fortress: \n \n\nVenue: Eden Park\n \nLocation: Auckland\, New Zealand\n\n \n🏟️ About Eden Park\n \nEden Park is New Zealand’s largest stadium\, with a capacity of approximately 50\,000 for international rugby. It is a ground steeped in history\, where the All Blacks have maintained an unbeaten streak dating back to 1994. The stadium is located in the vibrant suburb of Kingsland and is famous for its intimate atmosphere\, where the crowd feels right on top of the play. \n \n\n\nEden Park (Auckland) \n\n\n\n \n\n \n🎟️ How do I get tickets to the New Zealand v Ireland match in the Nations Championship 2026?\n \nIreland matches in New Zealand are historically sell-outs due to the massive respect for the rivalry and the traveling Irish “Green Army.” \n \n\nOfficial Vendor: Tickets for this fixture are sold via Ticketek New Zealand.\n \nPriority Access: Team All Blacks members receive the first opportunity to purchase. Register at allblacks.com.\n \nHospitality: The “Centenary Lounge” and “President’s Suite” offer premium experiences with some of the best views in the stadium.\n \nOfficial Travel Packages: For international fans\, All Blacks Tours offers comprehensive packages including match tickets and Auckland harbor experiences.\n\n \n\n \n✈️ How do I travel to Eden Park?\n \nAuckland is the primary international gateway to New Zealand\, making it easily accessible for overseas fans. \n \n\nBy Air: Auckland Airport (AKL) is the main hub. The SkyDrive bus or ride-share services connect the airport to the CBD in approximately 30–45 minutes.\n \nTo the Stadium (Match Day):\n\nTrain (Highly Recommended): Travel on Auckland Transport (AT) trains is usually included with your match ticket. Take the Western Line from Britomart to Kingsland Station\, which is located directly across from the stadium.\n \nSpecial Event Buses: Dedicated park-and-ride buses often run from the North Shore\, Botany\, and other major hubs directly to the Eden Park bus terminal.\n \nWalking: Fans staying in the city fringe (Ponsonby or Grey Lynn) often enjoy the 30-minute walk to the stadium\, joining the “sea of black” through the local streets.\n \nRide-Share: Use designated drop-off zones in the side streets of Kingsland\, but be aware of significant road closures around the stadium 2 hours prior to kick-off.\n\n\n\n\n\n \n \n\n \n🏨 Where to Stay in Auckland?\n \n\nBritomart & Viaduct Harbour: The heart of Auckland’s nightlife and dining. Perfect for luxury stays like The Park Hyatt or The Britomart Hotel\, and easy access to the train line to the stadium.\n \nKingsland / Grey Lynn: For those who want to be within walking distance of the ground. These areas feature boutique apartments and are close to the “pre-match” pub scene on New North Road.\n \nPonsonby: The coolest neighborhood in Auckland\, located a short Uber ride from the stadium. Known for its fashion boutiques\, award-winning restaurants\, and vibrant bars.\n \nSkyCity: Centrally located near the Sky Tower\, offering a range of hotels from the SkyCity Grand to the Horizon Hotel\, with easy access to all transport links.\n\n\n\n\n \n \n\n \n💡 Know Before You Go\n \n\nThe Fortress: Eden Park is a daunting venue for visitors. Expect a vocal home crowd and a massive Irish contingent making plenty of noise.\n \nWinter in Auckland: July is mid-winter. While it is rarely freezing\, it is often damp. Bring a waterproof\, warm jacket!\n \nKingsland Precinct: Arrive 2–3 hours early to enjoy the bars and eateries in Kingsland. The atmosphere in the village on Test day is world-class.\n \nCashless Venue: Eden Park is a fully cashless venue. All food\, beverage\, and merchandise outlets accept major credit/debit cards and mobile payments.\n\n \n\n \n🔗 Helpful Links for Your Trip\n \n\nOfficial All Blacks Website\n \nAuckland Transport (AT) Trip Planner\n \nEden Park Official Site\n \nAucklandNZ Tourism Guide\n\n \nJoin the roar at the Fortress for this historic Nations Championship showdown! 🇳🇿🇮🇪
URL:https://mysportstourist.com/sportsevent/new-zealand-vs-ireland-2026-nations-championship-auckland/
LOCATION:Eden Park\, Auckland\, New Zealand
CATEGORIES:Ireland International Rugby Union,New Zealand International Rugby,Rugby Union
ATTACH;FMTTYPE=image/jpeg:https://mysportstourist.com/wp-content/uploads/2021/01/Eden-Park-2.jpg
END:VEVENT
END:VCALENDAR