BEGIN:VCALENDAR
VERSION:2.0
PRODID:-//Sports Tourist - ECPv6.15.18//NONSGML v1.0//EN
CALSCALE:GREGORIAN
METHOD:PUBLISH
X-WR-CALNAME:Sports Tourist
X-ORIGINAL-URL:https://mysportstourist.com
X-WR-CALDESC:Events for Sports Tourist
REFRESH-INTERVAL;VALUE=DURATION:PT1H
X-Robots-Tag:noindex
X-PUBLISHED-TTL:PT1H
BEGIN:VTIMEZONE
TZID:Europe/Istanbul
BEGIN:STANDARD
TZOFFSETFROM:+0300
TZOFFSETTO:+0300
TZNAME:+03
DTSTART:20250101T000000
END:STANDARD
END:VTIMEZONE
BEGIN:VEVENT
DTSTART;TZID=Europe/Istanbul:20260520T000000
DTEND;TZID=Europe/Istanbul:20260520T235959
DTSTAMP:20260424T093318
CREATED:20250802T153831Z
LAST-MODIFIED:20250802T153835Z
UID:20558-1779235200-1779321599@mysportstourist.com
SUMMARY:2026 UEFA Europa League Final
DESCRIPTION:Get ready for the electrifying 2026 UEFA Europa League Final in Istanbul\, Türkiye\, a city where continents collide and football passion runs deep. This guide is your ultimate resource for everything you need to know about attending the final\, from the spectacular venue and ticket details to practical tips on travel and accommodation in this historic city. \n\n\n\n\n\n\n\n\n\n\nWhen is the 2026 UEFA Europa League Final?\n\n\n\nThe 2026 UEFA Europa League Final is scheduled for Wednesday\, May 20\, 2026. \n\n\n\n\n\n\n\nWhere is the 2026 UEFA Europa League Final?\n\n\n\nThe 2026 UEFA Europa League Final will be held at Beşiktaş Park in Istanbul\, Türkiye. The city is hosting its second major UEFA final\, following the 2019 UEFA Super Cup. \n\n\n\nHost City: Istanbul\, TürkiyeVenue: Beşiktaş Park Capacity: 41\,188 \n\n\n\nAbout Beşiktaş Park\n\n\n\nBeşiktaş Park is home to the Turkish Super League club Beşiktaş. The stadium is located on the shores of the Bosphorus\, offering a spectacular view. The venue is modern and has a history of hosting major football events\, making it a fitting location for the Europa League final. \n\n\n\n\nVodafone Park (Istanbul)\n\n\n\n\n\n\n\n\nHow do I get tickets to the 2026 UEFA Europa League Final?\n\n\n\nSecuring tickets for the UEFA Europa League Final is challenging due to high demand. UEFA typically allocates a significant portion of tickets to the two finalist clubs\, national associations\, and commercial partners. The remaining tickets are usually made available to the general public through a ballot system. \n\n\n\n\nOfficial UEFA Ticket Portal: Keep a close eye on the official UEFA.com tickets section for information on the official ballot and sales windows. Registration for the ballot usually opens several months before the final.\n\n\n\nClub Allocations: If you are a member or season ticket holder of one of the finalist clubs\, you may have an opportunity to enter a club-specific ballot for tickets.\n\n\n\nOfficial Hospitality Packages: For a guaranteed ticket and a premium experience\, official hospitality packages are available through UEFA’s appointed partners. These packages often include prime seating\, pre-match hospitality\, and catering. You can find information on these via UEFA’s official channels or reputable sports travel agencies.\n\n\n\nResale Marketplaces: While secondary marketplaces may list tickets\, exercise extreme caution. Only use trusted and reputable platforms that offer guarantees\, as unofficial resale can lead to invalid tickets. Prices on these platforms will likely be significantly higher than face value.\n\n\n\n\nImportant Note: Be wary of unofficial sources and scams. Always verify the legitimacy of tickets and packages before purchasing. \n\n\n\n\n\n\n\nHow do I get to Beşiktaş Park in Istanbul?\n\n\n\nIstanbul has an efficient public transport system\, which is the recommended way to reach Beşiktaş Park on match day. \n\n\n\n\nBy Metro: The nearest metro station is Taksim Square. From there\, you can either walk or take a short bus ride to the stadium.\n\n\n\nBy Ferry: Given the stadium’s location on the Bosphorus\, taking a ferry is a great way to arrive. The Beşiktaş pier is a short walk from the stadium.\n\n\n\nBy Bus: A comprehensive bus network operates throughout the city\, with many routes stopping near the stadium.\n\n\n\nBy Air: Istanbul is served by two major international airports\, Istanbul Airport (IST) and Sabiha Gökçen Airport (SAW). From either airport\, you can use public transport or a taxi to reach the city center and then the stadium.\n\n\n\n\n\n\n\n\n\n\n\n\nWhere to Stay During the 2026 UEFA Europa League Final?\n\n\n\nIstanbul offers a wide range of accommodation options to suit all budgets. It is highly advisable to book your accommodation as early as possible\, as hotels will fill up quickly and prices will increase significantly closer to the final. \n\n\n\n\nNear Beşiktaş Park: Staying in the Beşiktaş area puts you within walking distance of the stadium and places you in a lively neighborhood.\n\n\n\nTaksim/Beyoğlu: This central area is known for its nightlife\, shopping\, and dining. It is well-connected by public transport to the stadium.\n\n\n\nSultanahmet (Old City): If you want to combine football with sightseeing\, this area is home to major historical attractions and has good transport links to the rest of the city.\n\n\n\n\nBooking Tips: \n\n\n\n\nBook Early: This is critical for major events like the Europa League Final.\n\n\n\nCheck Transport Links: Ensure your chosen accommodation has easy access to public transport that connects to Beşiktaş Park.\n\n\n\nUse Reputable Booking Sites: Utilise platforms like Tripadvisor to find and compare options.\n\n\n\nReview Cancellation Policies: Be aware of cancellation policies\, especially when booking far in advance.\n\n\n\n\n\n\n\n\n\n\n\n\n\nHelpful Links for Planning Your Visit to the 2026 UEFA Europa League Final\n\n\n\n\nOfficial UEFA Europa League Website\n\n\n\nOfficial UEFA Ticketing Portal\n\n\n\nIstanbul Tourism Official Website\n\n\n\nIstanbul Airport (IST)\n\n\n\nSabiha Gökçen Airport (SAW)\n\n\n\nOfficial Social Media\n\nFacebook\n\n\n\nX (formerly Twitter)\n\n\n\nInstagram\n\n\n\nYouTube\n\n\n\n\n\n\nEnjoy the unforgettable experience of the 2026 UEFA Europa League Final in Istanbul!
URL:https://mysportstourist.com/sportsevent/2026-uefa-europa-league-final/
LOCATION:Beşiktaş Park\, Istanbul\, Turkey
CATEGORIES:Football,UEFA Europa League
ATTACH;FMTTYPE=image/jpeg:https://mysportstourist.com/wp-content/uploads/2025/08/pexels-photo-33199047.jpeg
END:VEVENT
END:VCALENDAR