BEGIN:VCALENDAR
VERSION:2.0
PRODID:-//Sports Tourist - ECPv6.15.18//NONSGML v1.0//EN
CALSCALE:GREGORIAN
METHOD:PUBLISH
X-ORIGINAL-URL:https://mysportstourist.com
X-WR-CALDESC:Events for Sports Tourist
REFRESH-INTERVAL;VALUE=DURATION:PT1H
X-Robots-Tag:noindex
X-PUBLISHED-TTL:PT1H
BEGIN:VTIMEZONE
TZID:America/Chicago
BEGIN:DAYLIGHT
TZOFFSETFROM:-0600
TZOFFSETTO:-0500
TZNAME:CDT
DTSTART:20250309T080000
END:DAYLIGHT
BEGIN:STANDARD
TZOFFSETFROM:-0500
TZOFFSETTO:-0600
TZNAME:CST
DTSTART:20251102T070000
END:STANDARD
BEGIN:DAYLIGHT
TZOFFSETFROM:-0600
TZOFFSETTO:-0500
TZNAME:CDT
DTSTART:20260308T080000
END:DAYLIGHT
BEGIN:STANDARD
TZOFFSETFROM:-0500
TZOFFSETTO:-0600
TZNAME:CST
DTSTART:20261101T070000
END:STANDARD
BEGIN:DAYLIGHT
TZOFFSETFROM:-0600
TZOFFSETTO:-0500
TZNAME:CDT
DTSTART:20270314T080000
END:DAYLIGHT
BEGIN:STANDARD
TZOFFSETFROM:-0500
TZOFFSETTO:-0600
TZNAME:CST
DTSTART:20271107T070000
END:STANDARD
END:VTIMEZONE
BEGIN:VEVENT
DTSTART;TZID=America/Chicago:20261011T000000
DTEND;TZID=America/Chicago:20261011T235959
DTSTAMP:20260422T101408
CREATED:20250910T191139Z
LAST-MODIFIED:20250910T191142Z
UID:20993-1791676800-1791763199@mysportstourist.com
SUMMARY:2026 Chicago Marathon
DESCRIPTION:The 2026 Chicago Marathon stands as one of the world’s most prestigious road races\, a cornerstone event in the Abbott World Marathon Majors series alongside Tokyo\, Boston\, London\, Berlin\, and New York City. This high-profile event transforms the city of Chicago into a global running stage\, drawing an electrifying field of elite athletes and tens of thousands of participants from over 100 countries. Renowned for its famously flat and fast course\, the marathon is not only a thrilling showcase for the world’s top marathoners but also a premier event for runners seeking to achieve a personal best on a course that is both challenging and inspiring. \n\n\n\n\n\n\n\n\n\n\nWhen and Where is the 2026 Chicago Marathon?\n\n\n\nThe 48th running of the Bank of America Chicago Marathon will take place on Sunday\, October 11\, 2026\, in Chicago\, Illinois. All race events\, including the start and finish lines\, are located in Grant Park. \n\n\n\nRace Format and Course Details of the 2026 Chicago Marathon\n\n\n\nThe Chicago Marathon is a single\, 26.2-mile road race. Its course is celebrated for its flat terrain and minimal turns\, making it ideal for fast times. The route winds through 29 of Chicago’s unique neighborhoods\, including a tour of the city’s downtown area. Key landmarks along the course include the Magnificent Mile\, Lincoln Park\, and a run through the Chinatown neighborhood\, offering a vibrant and diverse experience for runners and spectators alike. \n\n\n\n\n\n\n\n\n\n\n\nHow to Participate in the 2026 Chicago Marathon\n\n\n\nEntry into the Chicago Marathon is highly competitive and offered through several paths. The general application for both guaranteed and non-guaranteed entries for the 2026 event is expected to open in late October 2025 and close in mid-November 2025. You can learn more about the application process and remaining entry opportunities through the official application page. \n\n\n\n\nNon-Guaranteed Entry (The Lottery): This is the most common path for general runners. The drawing for the 2026 event will likely take place in December 2025.\n\n\n\nGuaranteed Entry: There are several ways to gain a guaranteed spot:\n\nCharity Program: This is a popular and effective way to secure a spot. Runners commit to fundraising a minimum amount for one of the event’s official charities.\n\n\n\nLegacy Finishers: Runners who have completed the Chicago Marathon five or more times in the last ten years are eligible.\n\n\n\nTime Qualifiers: Athletes who have met specific time standards in a certified marathon since January 1\, 2024\, can apply.\n\n\n\nInternational Tour Program: Runners outside the U.S. can secure an entry through an official international tour partner.\n\n\n\n\n\n\n\n\n\n\nSpectating the 2026 Chicago Marathon\n\n\n\nThe Chicago Marathon is free to watch\, with spectator access along most of the course. Spectators are not allowed in the secured start and finish areas within Grant Park. The best way to watch is to navigate the course using Chicago’s CTA “L” train system\, which has numerous stations along the route. Popular viewing spots and their nearby CTA stations include: \n\n\n\n\nMiles 1\, 3\, and 12.5: Grand CTA Red Line Station\n\n\n\nMile 8.5: Addison CTA Red Line Station (near Wrigleyville)\n\n\n\nMile 21.5: Cermak-Chinatown CTA Red Line Station\n\n\n\nFinish Line: Roosevelt CTA Red\, Green\, or Orange Line Station\n\n\n\n\n\n\n\n\nGetting to the 2026 Chicago Marathon\n\n\n\nChicago is easily accessible by air\, train\, and bus. \n\n\n\n\nBy Air: The city is served by two major airports: O’Hare International Airport (ORD) and Midway International Airport (MDW).\n\nFrom O’Hare (ORD): The CTA Blue Line runs directly from the airport to downtown Chicago\, taking approximately 45 minutes. Taxis and rideshare services are also readily available.\n\n\n\nFrom Midway (MDW): The CTA Orange Line provides direct service to the downtown area in about 25 minutes.\n\n\n\n\n\nBy Train: Chicago is a major hub for Amtrak\, with Union Station serving routes from across the country.\n\n\n\nBy Public Transit: Once in the city\, the CTA train and bus systems are the most efficient way to get to and from Grant Park and the course.\n\n\n\n\n\n\n\n\n\n\n\n\nWhere to stay for the 2026 Chicago Marathon\n\n\n\nChicago offers a vast selection of hotels\, from luxury high-rises to budget-friendly guesthouses. Since the start and finish lines are in the same location\, staying near Grant Park is ideal. Popular hotels close to the race include the Hilton Chicago\, Congress Plaza Hotel\, and Palmer House. Booking your accommodation well in advance is highly recommended due to high demand. \n\n\n\nBooking Tips:\n\n\n\n\nBook Early: The city gets very busy during the event\, so book your accommodation as early as possible.\n\n\n\nCheck Transport Links: Ensure your hotel is well-connected to public transport for easy travel to and from the race course.\n\n\n\nRead Reviews: Before booking\, check reviews on reputable booking sites like TripAdvisor.\n\n\n\n\n\n\n\n\n\n\n\n\n\nHelpful Links for Planning Your Visit to the 2026 Chicago Marathon\n\n\n\n\nOfficial Bank of America Chicago Marathon Website\n\n\n\nChoose Chicago (Official Tourism Website)\n\n\n\nChicago Transit Authority (CTA)
URL:https://mysportstourist.com/sportsevent/2026-chicago-marathon/
LOCATION:Chicago\, Illinois\, United States
CATEGORIES:Athletics,Marathon
ATTACH;FMTTYPE=image/jpeg:https://mysportstourist.com/wp-content/uploads/2025/09/pexels-photo-21940157.jpeg
END:VEVENT
END:VCALENDAR